BEGIN:VCALENDAR
VERSION:2.0
PRODID:-//Library Market//iCal Export//EN
BEGIN:VEVENT
SUMMARY:Poetry Club: Amanda Gorman
UID:24793
DTSTAMP:20260420T015600Z
DTSTART:20260207T173000Z
DTEND:20260207T183000Z
LOCATION:New Port Richey Public Library, 5939 Main St., New Port Richey, F
 L 34652, United States
ROOM: Avery Room
DESCRIPTION:Read and discuss the works of famous classic poets with fellow
  poetry lovers. Each month, we will explore a different poet, diving into 
 their life, themes, and lasting impact on literature.February&#039;s meeti
 ng will focus on Amanda Gorman.“There is always light.Only if we are bra
 ve enough to see it.There is always light.Only if we are brave enough to b
 e it.”― Amanda Gorman
URL:https://newportrichey.librarycalendar.com/event/poetry-club-amanda-gor
 man-24793
END:VEVENT
END:VCALENDAR
